BEGIN:VCALENDAR
VERSION:2.0
PRODID:-//Journey Christian Church - ECPv6.15.20//NONSGML v1.0//EN
CALSCALE:GREGORIAN
METHOD:PUBLISH
X-ORIGINAL-URL:https://imonthejourney.com
X-WR-CALDESC:Events for Journey Christian Church
REFRESH-INTERVAL;VALUE=DURATION:PT1H
X-Robots-Tag:noindex
X-PUBLISHED-TTL:PT1H
BEGIN:VTIMEZONE
TZID:UTC
BEGIN:STANDARD
TZOFFSETFROM:+0000
TZOFFSETTO:+0000
TZNAME:UTC
DTSTART:20210101T000000
END:STANDARD
END:VTIMEZONE
BEGIN:VEVENT
DTSTART;TZID=UTC:20230521T080000
DTEND;TZID=UTC:20230521T093000
DTSTAMP:20260420T015023
CREATED:20210924T154728Z
LAST-MODIFIED:20210924T154728Z
UID:1139-1684656000-1684661400@imonthejourney.com
SUMMARY:Sunday Service
DESCRIPTION:Example event text.
URL:https://imonthejourney.com/event/sunday-service-2023-05-21/
ATTACH;FMTTYPE=image/jpeg:https://imonthejourney.com/wp-content/uploads/2020/07/nathan-mullet-RFS60XV0z54-unsplash-scaled.jpg
END:VEVENT
BEGIN:VEVENT
DTSTART;TZID=UTC:20230514T080000
DTEND;TZID=UTC:20230514T093000
DTSTAMP:20260420T015023
CREATED:20210924T154728Z
LAST-MODIFIED:20210924T154728Z
UID:1138-1684051200-1684056600@imonthejourney.com
SUMMARY:Sunday Service
DESCRIPTION:Example event text.
URL:https://imonthejourney.com/event/sunday-service-2023-05-14/
ATTACH;FMTTYPE=image/jpeg:https://imonthejourney.com/wp-content/uploads/2020/07/nathan-mullet-RFS60XV0z54-unsplash-scaled.jpg
END:VEVENT
BEGIN:VEVENT
DTSTART;TZID=UTC:20230507T080000
DTEND;TZID=UTC:20230507T093000
DTSTAMP:20260420T015023
CREATED:20210924T154728Z
LAST-MODIFIED:20210924T154728Z
UID:1137-1683446400-1683451800@imonthejourney.com
SUMMARY:Sunday Service
DESCRIPTION:Example event text.
URL:https://imonthejourney.com/event/sunday-service-2023-05-07/
ATTACH;FMTTYPE=image/jpeg:https://imonthejourney.com/wp-content/uploads/2020/07/nathan-mullet-RFS60XV0z54-unsplash-scaled.jpg
END:VEVENT
BEGIN:VEVENT
DTSTART;TZID=UTC:20230430T080000
DTEND;TZID=UTC:20230430T093000
DTSTAMP:20260420T015023
CREATED:20210924T154728Z
LAST-MODIFIED:20210924T154728Z
UID:1136-1682841600-1682847000@imonthejourney.com
SUMMARY:Sunday Service
DESCRIPTION:Example event text.
URL:https://imonthejourney.com/event/sunday-service-2023-04-30/
ATTACH;FMTTYPE=image/jpeg:https://imonthejourney.com/wp-content/uploads/2020/07/nathan-mullet-RFS60XV0z54-unsplash-scaled.jpg
END:VEVENT
BEGIN:VEVENT
DTSTART;TZID=UTC:20230423T080000
DTEND;TZID=UTC:20230423T093000
DTSTAMP:20260420T015023
CREATED:20210924T154728Z
LAST-MODIFIED:20210924T154728Z
UID:1135-1682236800-1682242200@imonthejourney.com
SUMMARY:Sunday Service
DESCRIPTION:Example event text.
URL:https://imonthejourney.com/event/sunday-service-2023-04-23/
ATTACH;FMTTYPE=image/jpeg:https://imonthejourney.com/wp-content/uploads/2020/07/nathan-mullet-RFS60XV0z54-unsplash-scaled.jpg
END:VEVENT
BEGIN:VEVENT
DTSTART;TZID=UTC:20230416T080000
DTEND;TZID=UTC:20230416T093000
DTSTAMP:20260420T015023
CREATED:20210924T154728Z
LAST-MODIFIED:20210924T154728Z
UID:1134-1681632000-1681637400@imonthejourney.com
SUMMARY:Sunday Service
DESCRIPTION:Example event text.
URL:https://imonthejourney.com/event/sunday-service-2023-04-16/
ATTACH;FMTTYPE=image/jpeg:https://imonthejourney.com/wp-content/uploads/2020/07/nathan-mullet-RFS60XV0z54-unsplash-scaled.jpg
END:VEVENT
BEGIN:VEVENT
DTSTART;TZID=UTC:20230409T080000
DTEND;TZID=UTC:20230409T093000
DTSTAMP:20260420T015023
CREATED:20210924T154728Z
LAST-MODIFIED:20210924T154728Z
UID:1133-1681027200-1681032600@imonthejourney.com
SUMMARY:Sunday Service
DESCRIPTION:Example event text.
URL:https://imonthejourney.com/event/sunday-service-2023-04-09/
ATTACH;FMTTYPE=image/jpeg:https://imonthejourney.com/wp-content/uploads/2020/07/nathan-mullet-RFS60XV0z54-unsplash-scaled.jpg
END:VEVENT
BEGIN:VEVENT
DTSTART;TZID=UTC:20230402T080000
DTEND;TZID=UTC:20230402T093000
DTSTAMP:20260420T015023
CREATED:20210924T154728Z
LAST-MODIFIED:20210924T154728Z
UID:1132-1680422400-1680427800@imonthejourney.com
SUMMARY:Sunday Service
DESCRIPTION:Example event text.
URL:https://imonthejourney.com/event/sunday-service-2023-04-02/
ATTACH;FMTTYPE=image/jpeg:https://imonthejourney.com/wp-content/uploads/2020/07/nathan-mullet-RFS60XV0z54-unsplash-scaled.jpg
END:VEVENT
BEGIN:VEVENT
DTSTART;TZID=UTC:20230326T080000
DTEND;TZID=UTC:20230326T093000
DTSTAMP:20260420T015023
CREATED:20210924T154728Z
LAST-MODIFIED:20210924T154728Z
UID:1131-1679817600-1679823000@imonthejourney.com
SUMMARY:Sunday Service
DESCRIPTION:Example event text.
URL:https://imonthejourney.com/event/sunday-service-2023-03-26/
ATTACH;FMTTYPE=image/jpeg:https://imonthejourney.com/wp-content/uploads/2020/07/nathan-mullet-RFS60XV0z54-unsplash-scaled.jpg
END:VEVENT
BEGIN:VEVENT
DTSTART;TZID=UTC:20230319T080000
DTEND;TZID=UTC:20230319T093000
DTSTAMP:20260420T015023
CREATED:20210924T154728Z
LAST-MODIFIED:20210924T154728Z
UID:1130-1679212800-1679218200@imonthejourney.com
SUMMARY:Sunday Service
DESCRIPTION:Example event text.
URL:https://imonthejourney.com/event/sunday-service-2023-03-19/
ATTACH;FMTTYPE=image/jpeg:https://imonthejourney.com/wp-content/uploads/2020/07/nathan-mullet-RFS60XV0z54-unsplash-scaled.jpg
END:VEVENT
BEGIN:VEVENT
DTSTART;TZID=UTC:20230312T080000
DTEND;TZID=UTC:20230312T093000
DTSTAMP:20260420T015023
CREATED:20210924T154728Z
LAST-MODIFIED:20210924T154728Z
UID:1129-1678608000-1678613400@imonthejourney.com
SUMMARY:Sunday Service
DESCRIPTION:Example event text.
URL:https://imonthejourney.com/event/sunday-service-2023-03-12/
ATTACH;FMTTYPE=image/jpeg:https://imonthejourney.com/wp-content/uploads/2020/07/nathan-mullet-RFS60XV0z54-unsplash-scaled.jpg
END:VEVENT
BEGIN:VEVENT
DTSTART;TZID=UTC:20230305T080000
DTEND;TZID=UTC:20230305T093000
DTSTAMP:20260420T015023
CREATED:20210924T154728Z
LAST-MODIFIED:20210924T154728Z
UID:1128-1678003200-1678008600@imonthejourney.com
SUMMARY:Sunday Service
DESCRIPTION:Example event text.
URL:https://imonthejourney.com/event/sunday-service-2023-03-05/
ATTACH;FMTTYPE=image/jpeg:https://imonthejourney.com/wp-content/uploads/2020/07/nathan-mullet-RFS60XV0z54-unsplash-scaled.jpg
END:VEVENT
BEGIN:VEVENT
DTSTART;TZID=UTC:20230226T080000
DTEND;TZID=UTC:20230226T093000
DTSTAMP:20260420T015023
CREATED:20210924T154728Z
LAST-MODIFIED:20210924T154728Z
UID:1127-1677398400-1677403800@imonthejourney.com
SUMMARY:Sunday Service
DESCRIPTION:Example event text.
URL:https://imonthejourney.com/event/sunday-service-2023-02-26/
ATTACH;FMTTYPE=image/jpeg:https://imonthejourney.com/wp-content/uploads/2020/07/nathan-mullet-RFS60XV0z54-unsplash-scaled.jpg
END:VEVENT
BEGIN:VEVENT
DTSTART;TZID=UTC:20230219T080000
DTEND;TZID=UTC:20230219T093000
DTSTAMP:20260420T015023
CREATED:20210924T154728Z
LAST-MODIFIED:20210924T154728Z
UID:1126-1676793600-1676799000@imonthejourney.com
SUMMARY:Sunday Service
DESCRIPTION:Example event text.
URL:https://imonthejourney.com/event/sunday-service-2023-02-19/
ATTACH;FMTTYPE=image/jpeg:https://imonthejourney.com/wp-content/uploads/2020/07/nathan-mullet-RFS60XV0z54-unsplash-scaled.jpg
END:VEVENT
BEGIN:VEVENT
DTSTART;TZID=UTC:20230212T080000
DTEND;TZID=UTC:20230212T093000
DTSTAMP:20260420T015023
CREATED:20210924T154728Z
LAST-MODIFIED:20210924T154728Z
UID:1125-1676188800-1676194200@imonthejourney.com
SUMMARY:Sunday Service
DESCRIPTION:Example event text.
URL:https://imonthejourney.com/event/sunday-service-2023-02-12/
ATTACH;FMTTYPE=image/jpeg:https://imonthejourney.com/wp-content/uploads/2020/07/nathan-mullet-RFS60XV0z54-unsplash-scaled.jpg
END:VEVENT
BEGIN:VEVENT
DTSTART;TZID=UTC:20230205T080000
DTEND;TZID=UTC:20230205T093000
DTSTAMP:20260420T015023
CREATED:20210924T154728Z
LAST-MODIFIED:20210924T154728Z
UID:1124-1675584000-1675589400@imonthejourney.com
SUMMARY:Sunday Service
DESCRIPTION:Example event text.
URL:https://imonthejourney.com/event/sunday-service-2023-02-05/
ATTACH;FMTTYPE=image/jpeg:https://imonthejourney.com/wp-content/uploads/2020/07/nathan-mullet-RFS60XV0z54-unsplash-scaled.jpg
END:VEVENT
BEGIN:VEVENT
DTSTART;TZID=UTC:20230129T080000
DTEND;TZID=UTC:20230129T093000
DTSTAMP:20260420T015023
CREATED:20210924T154728Z
LAST-MODIFIED:20210924T154728Z
UID:1123-1674979200-1674984600@imonthejourney.com
SUMMARY:Sunday Service
DESCRIPTION:Example event text.
URL:https://imonthejourney.com/event/sunday-service-2023-01-29/
ATTACH;FMTTYPE=image/jpeg:https://imonthejourney.com/wp-content/uploads/2020/07/nathan-mullet-RFS60XV0z54-unsplash-scaled.jpg
END:VEVENT
BEGIN:VEVENT
DTSTART;TZID=UTC:20230122T080000
DTEND;TZID=UTC:20230122T093000
DTSTAMP:20260420T015023
CREATED:20210924T154728Z
LAST-MODIFIED:20210924T154728Z
UID:1122-1674374400-1674379800@imonthejourney.com
SUMMARY:Sunday Service
DESCRIPTION:Example event text.
URL:https://imonthejourney.com/event/sunday-service-2023-01-22/
ATTACH;FMTTYPE=image/jpeg:https://imonthejourney.com/wp-content/uploads/2020/07/nathan-mullet-RFS60XV0z54-unsplash-scaled.jpg
END:VEVENT
BEGIN:VEVENT
DTSTART;TZID=UTC:20230115T080000
DTEND;TZID=UTC:20230115T093000
DTSTAMP:20260420T015023
CREATED:20210924T154728Z
LAST-MODIFIED:20210924T154728Z
UID:1121-1673769600-1673775000@imonthejourney.com
SUMMARY:Sunday Service
DESCRIPTION:Example event text.
URL:https://imonthejourney.com/event/sunday-service-2023-01-15/
ATTACH;FMTTYPE=image/jpeg:https://imonthejourney.com/wp-content/uploads/2020/07/nathan-mullet-RFS60XV0z54-unsplash-scaled.jpg
END:VEVENT
BEGIN:VEVENT
DTSTART;TZID=UTC:20230108T080000
DTEND;TZID=UTC:20230108T093000
DTSTAMP:20260420T015023
CREATED:20210924T154728Z
LAST-MODIFIED:20210924T154728Z
UID:1120-1673164800-1673170200@imonthejourney.com
SUMMARY:Sunday Service
DESCRIPTION:Example event text.
URL:https://imonthejourney.com/event/sunday-service-2023-01-08/
ATTACH;FMTTYPE=image/jpeg:https://imonthejourney.com/wp-content/uploads/2020/07/nathan-mullet-RFS60XV0z54-unsplash-scaled.jpg
END:VEVENT
BEGIN:VEVENT
DTSTART;TZID=UTC:20230101T080000
DTEND;TZID=UTC:20230101T093000
DTSTAMP:20260420T015023
CREATED:20210924T154728Z
LAST-MODIFIED:20210924T154728Z
UID:1119-1672560000-1672565400@imonthejourney.com
SUMMARY:Sunday Service
DESCRIPTION:Example event text.
URL:https://imonthejourney.com/event/sunday-service-2023-01-01/
ATTACH;FMTTYPE=image/jpeg:https://imonthejourney.com/wp-content/uploads/2020/07/nathan-mullet-RFS60XV0z54-unsplash-scaled.jpg
END:VEVENT
BEGIN:VEVENT
DTSTART;TZID=UTC:20221225T080000
DTEND;TZID=UTC:20221225T093000
DTSTAMP:20260420T015023
CREATED:20210924T154728Z
LAST-MODIFIED:20210924T154728Z
UID:1118-1671955200-1671960600@imonthejourney.com
SUMMARY:Sunday Service
DESCRIPTION:Example event text.
URL:https://imonthejourney.com/event/sunday-service-2022-12-25/
ATTACH;FMTTYPE=image/jpeg:https://imonthejourney.com/wp-content/uploads/2020/07/nathan-mullet-RFS60XV0z54-unsplash-scaled.jpg
END:VEVENT
BEGIN:VEVENT
DTSTART;TZID=UTC:20221218T080000
DTEND;TZID=UTC:20221218T093000
DTSTAMP:20260420T015023
CREATED:20210924T154728Z
LAST-MODIFIED:20210924T154728Z
UID:1117-1671350400-1671355800@imonthejourney.com
SUMMARY:Sunday Service
DESCRIPTION:Example event text.
URL:https://imonthejourney.com/event/sunday-service-2022-12-18/
ATTACH;FMTTYPE=image/jpeg:https://imonthejourney.com/wp-content/uploads/2020/07/nathan-mullet-RFS60XV0z54-unsplash-scaled.jpg
END:VEVENT
BEGIN:VEVENT
DTSTART;TZID=UTC:20221211T080000
DTEND;TZID=UTC:20221211T093000
DTSTAMP:20260420T015023
CREATED:20210924T154728Z
LAST-MODIFIED:20210924T154728Z
UID:1116-1670745600-1670751000@imonthejourney.com
SUMMARY:Sunday Service
DESCRIPTION:Example event text.
URL:https://imonthejourney.com/event/sunday-service-2022-12-11/
ATTACH;FMTTYPE=image/jpeg:https://imonthejourney.com/wp-content/uploads/2020/07/nathan-mullet-RFS60XV0z54-unsplash-scaled.jpg
END:VEVENT
BEGIN:VEVENT
DTSTART;TZID=UTC:20221204T080000
DTEND;TZID=UTC:20221204T093000
DTSTAMP:20260420T015023
CREATED:20210924T154728Z
LAST-MODIFIED:20210924T154728Z
UID:1115-1670140800-1670146200@imonthejourney.com
SUMMARY:Sunday Service
DESCRIPTION:Example event text.
URL:https://imonthejourney.com/event/sunday-service-2022-12-04/
ATTACH;FMTTYPE=image/jpeg:https://imonthejourney.com/wp-content/uploads/2020/07/nathan-mullet-RFS60XV0z54-unsplash-scaled.jpg
END:VEVENT
BEGIN:VEVENT
DTSTART;TZID=UTC:20221127T080000
DTEND;TZID=UTC:20221127T093000
DTSTAMP:20260420T015023
CREATED:20210924T154728Z
LAST-MODIFIED:20210924T154728Z
UID:1114-1669536000-1669541400@imonthejourney.com
SUMMARY:Sunday Service
DESCRIPTION:Example event text.
URL:https://imonthejourney.com/event/sunday-service-2022-11-27/
ATTACH;FMTTYPE=image/jpeg:https://imonthejourney.com/wp-content/uploads/2020/07/nathan-mullet-RFS60XV0z54-unsplash-scaled.jpg
END:VEVENT
BEGIN:VEVENT
DTSTART;TZID=UTC:20221120T080000
DTEND;TZID=UTC:20221120T093000
DTSTAMP:20260420T015023
CREATED:20210924T154728Z
LAST-MODIFIED:20210924T154728Z
UID:1113-1668931200-1668936600@imonthejourney.com
SUMMARY:Sunday Service
DESCRIPTION:Example event text.
URL:https://imonthejourney.com/event/sunday-service-2022-11-20/
ATTACH;FMTTYPE=image/jpeg:https://imonthejourney.com/wp-content/uploads/2020/07/nathan-mullet-RFS60XV0z54-unsplash-scaled.jpg
END:VEVENT
BEGIN:VEVENT
DTSTART;TZID=UTC:20221113T080000
DTEND;TZID=UTC:20221113T093000
DTSTAMP:20260420T015023
CREATED:20210924T154728Z
LAST-MODIFIED:20210924T154728Z
UID:1112-1668326400-1668331800@imonthejourney.com
SUMMARY:Sunday Service
DESCRIPTION:Example event text.
URL:https://imonthejourney.com/event/sunday-service-2022-11-13/
ATTACH;FMTTYPE=image/jpeg:https://imonthejourney.com/wp-content/uploads/2020/07/nathan-mullet-RFS60XV0z54-unsplash-scaled.jpg
END:VEVENT
BEGIN:VEVENT
DTSTART;TZID=UTC:20221106T080000
DTEND;TZID=UTC:20221106T093000
DTSTAMP:20260420T015023
CREATED:20210924T154728Z
LAST-MODIFIED:20210924T154728Z
UID:1111-1667721600-1667727000@imonthejourney.com
SUMMARY:Sunday Service
DESCRIPTION:Example event text.
URL:https://imonthejourney.com/event/sunday-service-2022-11-06/
ATTACH;FMTTYPE=image/jpeg:https://imonthejourney.com/wp-content/uploads/2020/07/nathan-mullet-RFS60XV0z54-unsplash-scaled.jpg
END:VEVENT
BEGIN:VEVENT
DTSTART;TZID=UTC:20221030T080000
DTEND;TZID=UTC:20221030T093000
DTSTAMP:20260420T015023
CREATED:20210924T154728Z
LAST-MODIFIED:20210924T154728Z
UID:1110-1667116800-1667122200@imonthejourney.com
SUMMARY:Sunday Service
DESCRIPTION:Example event text.
URL:https://imonthejourney.com/event/sunday-service-2022-10-30/
ATTACH;FMTTYPE=image/jpeg:https://imonthejourney.com/wp-content/uploads/2020/07/nathan-mullet-RFS60XV0z54-unsplash-scaled.jpg
END:VEVENT
END:VCALENDAR