BEGIN:VCALENDAR
VERSION:2.0
PRODID:-//Journey Christian Church - ECPv6.15.20//NONSGML v1.0//EN
CALSCALE:GREGORIAN
METHOD:PUBLISH
X-WR-CALNAME:Journey Christian Church
X-ORIGINAL-URL:https://imonthejourney.com
X-WR-CALDESC:Events for Journey Christian Church
REFRESH-INTERVAL;VALUE=DURATION:PT1H
X-Robots-Tag:noindex
X-PUBLISHED-TTL:PT1H
BEGIN:VTIMEZONE
TZID:UTC
BEGIN:STANDARD
TZOFFSETFROM:+0000
TZOFFSETTO:+0000
TZNAME:UTC
DTSTART:20220101T000000
END:STANDARD
END:VTIMEZONE
BEGIN:VEVENT
DTSTART;TZID=UTC:20240414T080000
DTEND;TZID=UTC:20240414T093000
DTSTAMP:20260419T195127
CREATED:20210924T154728Z
LAST-MODIFIED:20210924T154728Z
UID:1243-1713081600-1713087000@imonthejourney.com
SUMMARY:Sunday Service
DESCRIPTION:Example event text.
URL:https://imonthejourney.com/event/sunday-service-2024-04-14/
ATTACH;FMTTYPE=image/jpeg:https://imonthejourney.com/wp-content/uploads/2020/07/nathan-mullet-RFS60XV0z54-unsplash-scaled.jpg
END:VEVENT
BEGIN:VEVENT
DTSTART;TZID=UTC:20240407T080000
DTEND;TZID=UTC:20240407T093000
DTSTAMP:20260419T195127
CREATED:20210924T154728Z
LAST-MODIFIED:20210924T154728Z
UID:1242-1712476800-1712482200@imonthejourney.com
SUMMARY:Sunday Service
DESCRIPTION:Example event text.
URL:https://imonthejourney.com/event/sunday-service-2024-04-07/
ATTACH;FMTTYPE=image/jpeg:https://imonthejourney.com/wp-content/uploads/2020/07/nathan-mullet-RFS60XV0z54-unsplash-scaled.jpg
END:VEVENT
BEGIN:VEVENT
DTSTART;TZID=UTC:20240331T080000
DTEND;TZID=UTC:20240331T093000
DTSTAMP:20260419T195127
CREATED:20210924T154728Z
LAST-MODIFIED:20210924T154728Z
UID:1241-1711872000-1711877400@imonthejourney.com
SUMMARY:Sunday Service
DESCRIPTION:Example event text.
URL:https://imonthejourney.com/event/sunday-service-2024-03-31/
ATTACH;FMTTYPE=image/jpeg:https://imonthejourney.com/wp-content/uploads/2020/07/nathan-mullet-RFS60XV0z54-unsplash-scaled.jpg
END:VEVENT
BEGIN:VEVENT
DTSTART;TZID=UTC:20240324T080000
DTEND;TZID=UTC:20240324T093000
DTSTAMP:20260419T195127
CREATED:20210924T154728Z
LAST-MODIFIED:20210924T154728Z
UID:1240-1711267200-1711272600@imonthejourney.com
SUMMARY:Sunday Service
DESCRIPTION:Example event text.
URL:https://imonthejourney.com/event/sunday-service-2024-03-24/
ATTACH;FMTTYPE=image/jpeg:https://imonthejourney.com/wp-content/uploads/2020/07/nathan-mullet-RFS60XV0z54-unsplash-scaled.jpg
END:VEVENT
BEGIN:VEVENT
DTSTART;TZID=UTC:20240317T080000
DTEND;TZID=UTC:20240317T093000
DTSTAMP:20260419T195127
CREATED:20210924T154728Z
LAST-MODIFIED:20210924T154728Z
UID:1239-1710662400-1710667800@imonthejourney.com
SUMMARY:Sunday Service
DESCRIPTION:Example event text.
URL:https://imonthejourney.com/event/sunday-service-2024-03-17/
ATTACH;FMTTYPE=image/jpeg:https://imonthejourney.com/wp-content/uploads/2020/07/nathan-mullet-RFS60XV0z54-unsplash-scaled.jpg
END:VEVENT
BEGIN:VEVENT
DTSTART;TZID=UTC:20240310T080000
DTEND;TZID=UTC:20240310T093000
DTSTAMP:20260419T195127
CREATED:20210924T154728Z
LAST-MODIFIED:20210924T154728Z
UID:1238-1710057600-1710063000@imonthejourney.com
SUMMARY:Sunday Service
DESCRIPTION:Example event text.
URL:https://imonthejourney.com/event/sunday-service-2024-03-10/
ATTACH;FMTTYPE=image/jpeg:https://imonthejourney.com/wp-content/uploads/2020/07/nathan-mullet-RFS60XV0z54-unsplash-scaled.jpg
END:VEVENT
BEGIN:VEVENT
DTSTART;TZID=UTC:20240303T080000
DTEND;TZID=UTC:20240303T093000
DTSTAMP:20260419T195127
CREATED:20210924T154728Z
LAST-MODIFIED:20210924T154728Z
UID:1237-1709452800-1709458200@imonthejourney.com
SUMMARY:Sunday Service
DESCRIPTION:Example event text.
URL:https://imonthejourney.com/event/sunday-service-2024-03-03/
ATTACH;FMTTYPE=image/jpeg:https://imonthejourney.com/wp-content/uploads/2020/07/nathan-mullet-RFS60XV0z54-unsplash-scaled.jpg
END:VEVENT
BEGIN:VEVENT
DTSTART;TZID=UTC:20240225T080000
DTEND;TZID=UTC:20240225T093000
DTSTAMP:20260419T195127
CREATED:20210924T154728Z
LAST-MODIFIED:20210924T154728Z
UID:1236-1708848000-1708853400@imonthejourney.com
SUMMARY:Sunday Service
DESCRIPTION:Example event text.
URL:https://imonthejourney.com/event/sunday-service-2024-02-25/
ATTACH;FMTTYPE=image/jpeg:https://imonthejourney.com/wp-content/uploads/2020/07/nathan-mullet-RFS60XV0z54-unsplash-scaled.jpg
END:VEVENT
BEGIN:VEVENT
DTSTART;TZID=UTC:20240218T080000
DTEND;TZID=UTC:20240218T093000
DTSTAMP:20260419T195127
CREATED:20210924T154728Z
LAST-MODIFIED:20210924T154728Z
UID:1235-1708243200-1708248600@imonthejourney.com
SUMMARY:Sunday Service
DESCRIPTION:Example event text.
URL:https://imonthejourney.com/event/sunday-service-2024-02-18/
ATTACH;FMTTYPE=image/jpeg:https://imonthejourney.com/wp-content/uploads/2020/07/nathan-mullet-RFS60XV0z54-unsplash-scaled.jpg
END:VEVENT
BEGIN:VEVENT
DTSTART;TZID=UTC:20240211T080000
DTEND;TZID=UTC:20240211T093000
DTSTAMP:20260419T195127
CREATED:20210924T154728Z
LAST-MODIFIED:20210924T154728Z
UID:1234-1707638400-1707643800@imonthejourney.com
SUMMARY:Sunday Service
DESCRIPTION:Example event text.
URL:https://imonthejourney.com/event/sunday-service-2024-02-11/
ATTACH;FMTTYPE=image/jpeg:https://imonthejourney.com/wp-content/uploads/2020/07/nathan-mullet-RFS60XV0z54-unsplash-scaled.jpg
END:VEVENT
BEGIN:VEVENT
DTSTART;TZID=UTC:20240204T080000
DTEND;TZID=UTC:20240204T093000
DTSTAMP:20260419T195127
CREATED:20210924T154728Z
LAST-MODIFIED:20210924T154728Z
UID:1233-1707033600-1707039000@imonthejourney.com
SUMMARY:Sunday Service
DESCRIPTION:Example event text.
URL:https://imonthejourney.com/event/sunday-service-2024-02-04/
ATTACH;FMTTYPE=image/jpeg:https://imonthejourney.com/wp-content/uploads/2020/07/nathan-mullet-RFS60XV0z54-unsplash-scaled.jpg
END:VEVENT
BEGIN:VEVENT
DTSTART;TZID=UTC:20240128T080000
DTEND;TZID=UTC:20240128T093000
DTSTAMP:20260419T195127
CREATED:20210924T154728Z
LAST-MODIFIED:20210924T154728Z
UID:1232-1706428800-1706434200@imonthejourney.com
SUMMARY:Sunday Service
DESCRIPTION:Example event text.
URL:https://imonthejourney.com/event/sunday-service-2024-01-28/
ATTACH;FMTTYPE=image/jpeg:https://imonthejourney.com/wp-content/uploads/2020/07/nathan-mullet-RFS60XV0z54-unsplash-scaled.jpg
END:VEVENT
BEGIN:VEVENT
DTSTART;TZID=UTC:20240121T080000
DTEND;TZID=UTC:20240121T093000
DTSTAMP:20260419T195127
CREATED:20210924T154728Z
LAST-MODIFIED:20210924T154728Z
UID:1231-1705824000-1705829400@imonthejourney.com
SUMMARY:Sunday Service
DESCRIPTION:Example event text.
URL:https://imonthejourney.com/event/sunday-service-2024-01-21/
ATTACH;FMTTYPE=image/jpeg:https://imonthejourney.com/wp-content/uploads/2020/07/nathan-mullet-RFS60XV0z54-unsplash-scaled.jpg
END:VEVENT
BEGIN:VEVENT
DTSTART;TZID=UTC:20240114T080000
DTEND;TZID=UTC:20240114T093000
DTSTAMP:20260419T195127
CREATED:20210924T154728Z
LAST-MODIFIED:20210924T154728Z
UID:1230-1705219200-1705224600@imonthejourney.com
SUMMARY:Sunday Service
DESCRIPTION:Example event text.
URL:https://imonthejourney.com/event/sunday-service-2024-01-14/
ATTACH;FMTTYPE=image/jpeg:https://imonthejourney.com/wp-content/uploads/2020/07/nathan-mullet-RFS60XV0z54-unsplash-scaled.jpg
END:VEVENT
BEGIN:VEVENT
DTSTART;TZID=UTC:20240107T080000
DTEND;TZID=UTC:20240107T093000
DTSTAMP:20260419T195127
CREATED:20210924T154728Z
LAST-MODIFIED:20210924T154728Z
UID:1229-1704614400-1704619800@imonthejourney.com
SUMMARY:Sunday Service
DESCRIPTION:Example event text.
URL:https://imonthejourney.com/event/sunday-service-2024-01-07/
ATTACH;FMTTYPE=image/jpeg:https://imonthejourney.com/wp-content/uploads/2020/07/nathan-mullet-RFS60XV0z54-unsplash-scaled.jpg
END:VEVENT
BEGIN:VEVENT
DTSTART;TZID=UTC:20231231T080000
DTEND;TZID=UTC:20231231T093000
DTSTAMP:20260419T195127
CREATED:20210924T154728Z
LAST-MODIFIED:20210924T154728Z
UID:1227-1704009600-1704015000@imonthejourney.com
SUMMARY:Sunday Service
DESCRIPTION:Example event text.
URL:https://imonthejourney.com/event/sunday-service-2023-12-31/
ATTACH;FMTTYPE=image/jpeg:https://imonthejourney.com/wp-content/uploads/2020/07/nathan-mullet-RFS60XV0z54-unsplash-scaled.jpg
END:VEVENT
BEGIN:VEVENT
DTSTART;TZID=UTC:20231224T080000
DTEND;TZID=UTC:20231224T093000
DTSTAMP:20260419T195127
CREATED:20210924T154728Z
LAST-MODIFIED:20210924T154728Z
UID:1226-1703404800-1703410200@imonthejourney.com
SUMMARY:Sunday Service
DESCRIPTION:Example event text.
URL:https://imonthejourney.com/event/sunday-service-2023-12-24/
ATTACH;FMTTYPE=image/jpeg:https://imonthejourney.com/wp-content/uploads/2020/07/nathan-mullet-RFS60XV0z54-unsplash-scaled.jpg
END:VEVENT
BEGIN:VEVENT
DTSTART;TZID=UTC:20231217T080000
DTEND;TZID=UTC:20231217T093000
DTSTAMP:20260419T195127
CREATED:20210924T154728Z
LAST-MODIFIED:20210924T154728Z
UID:1224-1702800000-1702805400@imonthejourney.com
SUMMARY:Sunday Service
DESCRIPTION:Example event text.
URL:https://imonthejourney.com/event/sunday-service-2023-12-17/
ATTACH;FMTTYPE=image/jpeg:https://imonthejourney.com/wp-content/uploads/2020/07/nathan-mullet-RFS60XV0z54-unsplash-scaled.jpg
END:VEVENT
BEGIN:VEVENT
DTSTART;TZID=UTC:20231210T080000
DTEND;TZID=UTC:20231210T093000
DTSTAMP:20260419T195127
CREATED:20210924T154728Z
LAST-MODIFIED:20210924T154728Z
UID:1223-1702195200-1702200600@imonthejourney.com
SUMMARY:Sunday Service
DESCRIPTION:Example event text.
URL:https://imonthejourney.com/event/sunday-service-2023-12-10/
ATTACH;FMTTYPE=image/jpeg:https://imonthejourney.com/wp-content/uploads/2020/07/nathan-mullet-RFS60XV0z54-unsplash-scaled.jpg
END:VEVENT
BEGIN:VEVENT
DTSTART;TZID=UTC:20231203T080000
DTEND;TZID=UTC:20231203T093000
DTSTAMP:20260419T195127
CREATED:20210924T154728Z
LAST-MODIFIED:20210924T154728Z
UID:1222-1701590400-1701595800@imonthejourney.com
SUMMARY:Sunday Service
DESCRIPTION:Example event text.
URL:https://imonthejourney.com/event/sunday-service-2023-12-03/
ATTACH;FMTTYPE=image/jpeg:https://imonthejourney.com/wp-content/uploads/2020/07/nathan-mullet-RFS60XV0z54-unsplash-scaled.jpg
END:VEVENT
BEGIN:VEVENT
DTSTART;TZID=UTC:20231126T080000
DTEND;TZID=UTC:20231126T093000
DTSTAMP:20260419T195127
CREATED:20210924T154728Z
LAST-MODIFIED:20210924T154728Z
UID:1221-1700985600-1700991000@imonthejourney.com
SUMMARY:Sunday Service
DESCRIPTION:Example event text.
URL:https://imonthejourney.com/event/sunday-service-2023-11-26/
ATTACH;FMTTYPE=image/jpeg:https://imonthejourney.com/wp-content/uploads/2020/07/nathan-mullet-RFS60XV0z54-unsplash-scaled.jpg
END:VEVENT
BEGIN:VEVENT
DTSTART;TZID=UTC:20231119T080000
DTEND;TZID=UTC:20231119T093000
DTSTAMP:20260419T195127
CREATED:20210924T154728Z
LAST-MODIFIED:20210924T154728Z
UID:1220-1700380800-1700386200@imonthejourney.com
SUMMARY:Sunday Service
DESCRIPTION:Example event text.
URL:https://imonthejourney.com/event/sunday-service-2023-11-19/
ATTACH;FMTTYPE=image/jpeg:https://imonthejourney.com/wp-content/uploads/2020/07/nathan-mullet-RFS60XV0z54-unsplash-scaled.jpg
END:VEVENT
BEGIN:VEVENT
DTSTART;TZID=UTC:20231112T080000
DTEND;TZID=UTC:20231112T093000
DTSTAMP:20260419T195127
CREATED:20210924T154728Z
LAST-MODIFIED:20210924T154728Z
UID:1219-1699776000-1699781400@imonthejourney.com
SUMMARY:Sunday Service
DESCRIPTION:Example event text.
URL:https://imonthejourney.com/event/sunday-service-2023-11-12/
ATTACH;FMTTYPE=image/jpeg:https://imonthejourney.com/wp-content/uploads/2020/07/nathan-mullet-RFS60XV0z54-unsplash-scaled.jpg
END:VEVENT
BEGIN:VEVENT
DTSTART;TZID=UTC:20231105T080000
DTEND;TZID=UTC:20231105T093000
DTSTAMP:20260419T195127
CREATED:20210924T154728Z
LAST-MODIFIED:20210924T154728Z
UID:1213-1699171200-1699176600@imonthejourney.com
SUMMARY:Sunday Service
DESCRIPTION:Example event text.
URL:https://imonthejourney.com/event/sunday-service-2023-11-05/
ATTACH;FMTTYPE=image/jpeg:https://imonthejourney.com/wp-content/uploads/2020/07/nathan-mullet-RFS60XV0z54-unsplash-scaled.jpg
END:VEVENT
BEGIN:VEVENT
DTSTART;TZID=UTC:20231029T080000
DTEND;TZID=UTC:20231029T093000
DTSTAMP:20260419T195127
CREATED:20210924T154728Z
LAST-MODIFIED:20210924T154728Z
UID:1211-1698566400-1698571800@imonthejourney.com
SUMMARY:Sunday Service
DESCRIPTION:Example event text.
URL:https://imonthejourney.com/event/sunday-service-2023-10-29/
ATTACH;FMTTYPE=image/jpeg:https://imonthejourney.com/wp-content/uploads/2020/07/nathan-mullet-RFS60XV0z54-unsplash-scaled.jpg
END:VEVENT
BEGIN:VEVENT
DTSTART;TZID=UTC:20231022T080000
DTEND;TZID=UTC:20231022T093000
DTSTAMP:20260419T195127
CREATED:20210924T154728Z
LAST-MODIFIED:20210924T154728Z
UID:1210-1697961600-1697967000@imonthejourney.com
SUMMARY:Sunday Service
DESCRIPTION:Example event text.
URL:https://imonthejourney.com/event/sunday-service-2023-10-22/
ATTACH;FMTTYPE=image/jpeg:https://imonthejourney.com/wp-content/uploads/2020/07/nathan-mullet-RFS60XV0z54-unsplash-scaled.jpg
END:VEVENT
BEGIN:VEVENT
DTSTART;TZID=UTC:20231015T080000
DTEND;TZID=UTC:20231015T093000
DTSTAMP:20260419T195127
CREATED:20210924T154728Z
LAST-MODIFIED:20210924T154728Z
UID:1209-1697356800-1697362200@imonthejourney.com
SUMMARY:Sunday Service
DESCRIPTION:Example event text.
URL:https://imonthejourney.com/event/sunday-service-2023-10-15/
ATTACH;FMTTYPE=image/jpeg:https://imonthejourney.com/wp-content/uploads/2020/07/nathan-mullet-RFS60XV0z54-unsplash-scaled.jpg
END:VEVENT
BEGIN:VEVENT
DTSTART;TZID=UTC:20231008T080000
DTEND;TZID=UTC:20231008T093000
DTSTAMP:20260419T195127
CREATED:20210924T154728Z
LAST-MODIFIED:20210924T154728Z
UID:1208-1696752000-1696757400@imonthejourney.com
SUMMARY:Sunday Service
DESCRIPTION:Example event text.
URL:https://imonthejourney.com/event/sunday-service-2023-10-08/
ATTACH;FMTTYPE=image/jpeg:https://imonthejourney.com/wp-content/uploads/2020/07/nathan-mullet-RFS60XV0z54-unsplash-scaled.jpg
END:VEVENT
BEGIN:VEVENT
DTSTART;TZID=UTC:20231001T080000
DTEND;TZID=UTC:20231001T093000
DTSTAMP:20260419T195127
CREATED:20210924T154728Z
LAST-MODIFIED:20210924T154728Z
UID:1207-1696147200-1696152600@imonthejourney.com
SUMMARY:Sunday Service
DESCRIPTION:Example event text.
URL:https://imonthejourney.com/event/sunday-service-2023-10-01/
ATTACH;FMTTYPE=image/jpeg:https://imonthejourney.com/wp-content/uploads/2020/07/nathan-mullet-RFS60XV0z54-unsplash-scaled.jpg
END:VEVENT
BEGIN:VEVENT
DTSTART;TZID=UTC:20230924T080000
DTEND;TZID=UTC:20230924T093000
DTSTAMP:20260419T195127
CREATED:20210924T154728Z
LAST-MODIFIED:20210924T154728Z
UID:1206-1695542400-1695547800@imonthejourney.com
SUMMARY:Sunday Service
DESCRIPTION:Example event text.
URL:https://imonthejourney.com/event/sunday-service-2023-09-24/
ATTACH;FMTTYPE=image/jpeg:https://imonthejourney.com/wp-content/uploads/2020/07/nathan-mullet-RFS60XV0z54-unsplash-scaled.jpg
END:VEVENT
END:VCALENDAR