BEGIN:VCALENDAR
VERSION:2.0
PRODID:-//Journey Christian Church - ECPv6.15.20//NONSGML v1.0//EN
CALSCALE:GREGORIAN
METHOD:PUBLISH
X-WR-CALNAME:Journey Christian Church
X-ORIGINAL-URL:https://imonthejourney.com
X-WR-CALDESC:Events for Journey Christian Church
REFRESH-INTERVAL;VALUE=DURATION:PT1H
X-Robots-Tag:noindex
X-PUBLISHED-TTL:PT1H
BEGIN:VTIMEZONE
TZID:UTC
BEGIN:STANDARD
TZOFFSETFROM:+0000
TZOFFSETTO:+0000
TZNAME:UTC
DTSTART:20210101T000000
END:STANDARD
END:VTIMEZONE
BEGIN:VEVENT
DTSTART;TZID=UTC:20220911T080000
DTEND;TZID=UTC:20220911T093000
DTSTAMP:20260420T072632
CREATED:20210924T154728Z
LAST-MODIFIED:20210924T154728Z
UID:1103-1662883200-1662888600@imonthejourney.com
SUMMARY:Sunday Service
DESCRIPTION:Example event text.
URL:https://imonthejourney.com/event/sunday-service-2022-09-11/
ATTACH;FMTTYPE=image/jpeg:https://imonthejourney.com/wp-content/uploads/2020/07/nathan-mullet-RFS60XV0z54-unsplash-scaled.jpg
END:VEVENT
BEGIN:VEVENT
DTSTART;TZID=UTC:20220904T080000
DTEND;TZID=UTC:20220904T093000
DTSTAMP:20260420T072632
CREATED:20210924T154728Z
LAST-MODIFIED:20210924T154728Z
UID:1102-1662278400-1662283800@imonthejourney.com
SUMMARY:Sunday Service
DESCRIPTION:Example event text.
URL:https://imonthejourney.com/event/sunday-service-2022-09-04/
ATTACH;FMTTYPE=image/jpeg:https://imonthejourney.com/wp-content/uploads/2020/07/nathan-mullet-RFS60XV0z54-unsplash-scaled.jpg
END:VEVENT
BEGIN:VEVENT
DTSTART;TZID=UTC:20220828T080000
DTEND;TZID=UTC:20220828T093000
DTSTAMP:20260420T072632
CREATED:20210924T154728Z
LAST-MODIFIED:20210924T154728Z
UID:1101-1661673600-1661679000@imonthejourney.com
SUMMARY:Sunday Service
DESCRIPTION:Example event text.
URL:https://imonthejourney.com/event/sunday-service-2022-08-28/
ATTACH;FMTTYPE=image/jpeg:https://imonthejourney.com/wp-content/uploads/2020/07/nathan-mullet-RFS60XV0z54-unsplash-scaled.jpg
END:VEVENT
BEGIN:VEVENT
DTSTART;TZID=UTC:20220821T080000
DTEND;TZID=UTC:20220821T093000
DTSTAMP:20260420T072632
CREATED:20210924T154728Z
LAST-MODIFIED:20210924T154728Z
UID:1100-1661068800-1661074200@imonthejourney.com
SUMMARY:Sunday Service
DESCRIPTION:Example event text.
URL:https://imonthejourney.com/event/sunday-service-2022-08-21/
ATTACH;FMTTYPE=image/jpeg:https://imonthejourney.com/wp-content/uploads/2020/07/nathan-mullet-RFS60XV0z54-unsplash-scaled.jpg
END:VEVENT
BEGIN:VEVENT
DTSTART;TZID=UTC:20220814T080000
DTEND;TZID=UTC:20220814T093000
DTSTAMP:20260420T072632
CREATED:20210924T154728Z
LAST-MODIFIED:20210924T154728Z
UID:1099-1660464000-1660469400@imonthejourney.com
SUMMARY:Sunday Service
DESCRIPTION:Example event text.
URL:https://imonthejourney.com/event/sunday-service-2022-08-14/
ATTACH;FMTTYPE=image/jpeg:https://imonthejourney.com/wp-content/uploads/2020/07/nathan-mullet-RFS60XV0z54-unsplash-scaled.jpg
END:VEVENT
BEGIN:VEVENT
DTSTART;TZID=UTC:20220807T080000
DTEND;TZID=UTC:20220807T093000
DTSTAMP:20260420T072632
CREATED:20210924T154728Z
LAST-MODIFIED:20210924T154728Z
UID:1098-1659859200-1659864600@imonthejourney.com
SUMMARY:Sunday Service
DESCRIPTION:Example event text.
URL:https://imonthejourney.com/event/sunday-service-2022-08-07/
ATTACH;FMTTYPE=image/jpeg:https://imonthejourney.com/wp-content/uploads/2020/07/nathan-mullet-RFS60XV0z54-unsplash-scaled.jpg
END:VEVENT
BEGIN:VEVENT
DTSTART;TZID=UTC:20220731T080000
DTEND;TZID=UTC:20220731T093000
DTSTAMP:20260420T072632
CREATED:20210924T154728Z
LAST-MODIFIED:20210924T154728Z
UID:1097-1659254400-1659259800@imonthejourney.com
SUMMARY:Sunday Service
DESCRIPTION:Example event text.
URL:https://imonthejourney.com/event/sunday-service-2022-07-31/
ATTACH;FMTTYPE=image/jpeg:https://imonthejourney.com/wp-content/uploads/2020/07/nathan-mullet-RFS60XV0z54-unsplash-scaled.jpg
END:VEVENT
BEGIN:VEVENT
DTSTART;TZID=UTC:20220724T080000
DTEND;TZID=UTC:20220724T093000
DTSTAMP:20260420T072632
CREATED:20210924T154728Z
LAST-MODIFIED:20210924T154728Z
UID:1096-1658649600-1658655000@imonthejourney.com
SUMMARY:Sunday Service
DESCRIPTION:Example event text.
URL:https://imonthejourney.com/event/sunday-service-2022-07-24/
ATTACH;FMTTYPE=image/jpeg:https://imonthejourney.com/wp-content/uploads/2020/07/nathan-mullet-RFS60XV0z54-unsplash-scaled.jpg
END:VEVENT
BEGIN:VEVENT
DTSTART;TZID=UTC:20220717T080000
DTEND;TZID=UTC:20220717T093000
DTSTAMP:20260420T072632
CREATED:20210924T154728Z
LAST-MODIFIED:20210924T154728Z
UID:1095-1658044800-1658050200@imonthejourney.com
SUMMARY:Sunday Service
DESCRIPTION:Example event text.
URL:https://imonthejourney.com/event/sunday-service-2022-07-17/
ATTACH;FMTTYPE=image/jpeg:https://imonthejourney.com/wp-content/uploads/2020/07/nathan-mullet-RFS60XV0z54-unsplash-scaled.jpg
END:VEVENT
BEGIN:VEVENT
DTSTART;TZID=UTC:20220710T080000
DTEND;TZID=UTC:20220710T093000
DTSTAMP:20260420T072632
CREATED:20210924T154728Z
LAST-MODIFIED:20210924T154728Z
UID:1094-1657440000-1657445400@imonthejourney.com
SUMMARY:Sunday Service
DESCRIPTION:Example event text.
URL:https://imonthejourney.com/event/sunday-service-2022-07-10/
ATTACH;FMTTYPE=image/jpeg:https://imonthejourney.com/wp-content/uploads/2020/07/nathan-mullet-RFS60XV0z54-unsplash-scaled.jpg
END:VEVENT
BEGIN:VEVENT
DTSTART;TZID=UTC:20220703T080000
DTEND;TZID=UTC:20220703T093000
DTSTAMP:20260420T072632
CREATED:20210924T154728Z
LAST-MODIFIED:20210924T154728Z
UID:1093-1656835200-1656840600@imonthejourney.com
SUMMARY:Sunday Service
DESCRIPTION:Example event text.
URL:https://imonthejourney.com/event/sunday-service-2022-07-03/
ATTACH;FMTTYPE=image/jpeg:https://imonthejourney.com/wp-content/uploads/2020/07/nathan-mullet-RFS60XV0z54-unsplash-scaled.jpg
END:VEVENT
BEGIN:VEVENT
DTSTART;TZID=UTC:20220626T080000
DTEND;TZID=UTC:20220626T093000
DTSTAMP:20260420T072632
CREATED:20210924T154728Z
LAST-MODIFIED:20210924T154728Z
UID:1092-1656230400-1656235800@imonthejourney.com
SUMMARY:Sunday Service
DESCRIPTION:Example event text.
URL:https://imonthejourney.com/event/sunday-service-2022-06-26/
ATTACH;FMTTYPE=image/jpeg:https://imonthejourney.com/wp-content/uploads/2020/07/nathan-mullet-RFS60XV0z54-unsplash-scaled.jpg
END:VEVENT
BEGIN:VEVENT
DTSTART;TZID=UTC:20220619T080000
DTEND;TZID=UTC:20220619T093000
DTSTAMP:20260420T072632
CREATED:20210924T154728Z
LAST-MODIFIED:20210924T154728Z
UID:1091-1655625600-1655631000@imonthejourney.com
SUMMARY:Sunday Service
DESCRIPTION:Example event text.
URL:https://imonthejourney.com/event/sunday-service-2022-06-19/
ATTACH;FMTTYPE=image/jpeg:https://imonthejourney.com/wp-content/uploads/2020/07/nathan-mullet-RFS60XV0z54-unsplash-scaled.jpg
END:VEVENT
BEGIN:VEVENT
DTSTART;TZID=UTC:20220612T080000
DTEND;TZID=UTC:20220612T093000
DTSTAMP:20260420T072632
CREATED:20210924T154728Z
LAST-MODIFIED:20210924T154728Z
UID:1090-1655020800-1655026200@imonthejourney.com
SUMMARY:Sunday Service
DESCRIPTION:Example event text.
URL:https://imonthejourney.com/event/sunday-service-2022-06-12/
ATTACH;FMTTYPE=image/jpeg:https://imonthejourney.com/wp-content/uploads/2020/07/nathan-mullet-RFS60XV0z54-unsplash-scaled.jpg
END:VEVENT
BEGIN:VEVENT
DTSTART;TZID=UTC:20220605T080000
DTEND;TZID=UTC:20220605T093000
DTSTAMP:20260420T072632
CREATED:20210924T154728Z
LAST-MODIFIED:20210924T154728Z
UID:1089-1654416000-1654421400@imonthejourney.com
SUMMARY:Sunday Service
DESCRIPTION:Example event text.
URL:https://imonthejourney.com/event/sunday-service-2022-06-05/
ATTACH;FMTTYPE=image/jpeg:https://imonthejourney.com/wp-content/uploads/2020/07/nathan-mullet-RFS60XV0z54-unsplash-scaled.jpg
END:VEVENT
BEGIN:VEVENT
DTSTART;TZID=UTC:20220529T080000
DTEND;TZID=UTC:20220529T093000
DTSTAMP:20260420T072632
CREATED:20210924T154728Z
LAST-MODIFIED:20210924T154728Z
UID:1088-1653811200-1653816600@imonthejourney.com
SUMMARY:Sunday Service
DESCRIPTION:Example event text.
URL:https://imonthejourney.com/event/sunday-service-2022-05-29/
ATTACH;FMTTYPE=image/jpeg:https://imonthejourney.com/wp-content/uploads/2020/07/nathan-mullet-RFS60XV0z54-unsplash-scaled.jpg
END:VEVENT
BEGIN:VEVENT
DTSTART;TZID=UTC:20220522T080000
DTEND;TZID=UTC:20220522T093000
DTSTAMP:20260420T072632
CREATED:20210924T154728Z
LAST-MODIFIED:20210924T154728Z
UID:1087-1653206400-1653211800@imonthejourney.com
SUMMARY:Sunday Service
DESCRIPTION:Example event text.
URL:https://imonthejourney.com/event/sunday-service-2022-05-22/
ATTACH;FMTTYPE=image/jpeg:https://imonthejourney.com/wp-content/uploads/2020/07/nathan-mullet-RFS60XV0z54-unsplash-scaled.jpg
END:VEVENT
BEGIN:VEVENT
DTSTART;TZID=UTC:20220515T080000
DTEND;TZID=UTC:20220515T093000
DTSTAMP:20260420T072632
CREATED:20210924T154728Z
LAST-MODIFIED:20210924T154728Z
UID:1086-1652601600-1652607000@imonthejourney.com
SUMMARY:Sunday Service
DESCRIPTION:Example event text.
URL:https://imonthejourney.com/event/sunday-service-2022-05-15/
ATTACH;FMTTYPE=image/jpeg:https://imonthejourney.com/wp-content/uploads/2020/07/nathan-mullet-RFS60XV0z54-unsplash-scaled.jpg
END:VEVENT
BEGIN:VEVENT
DTSTART;TZID=UTC:20220508T080000
DTEND;TZID=UTC:20220508T093000
DTSTAMP:20260420T072632
CREATED:20210924T154728Z
LAST-MODIFIED:20210924T154728Z
UID:1085-1651996800-1652002200@imonthejourney.com
SUMMARY:Sunday Service
DESCRIPTION:Example event text.
URL:https://imonthejourney.com/event/sunday-service-2022-05-08/
ATTACH;FMTTYPE=image/jpeg:https://imonthejourney.com/wp-content/uploads/2020/07/nathan-mullet-RFS60XV0z54-unsplash-scaled.jpg
END:VEVENT
BEGIN:VEVENT
DTSTART;TZID=UTC:20220501T080000
DTEND;TZID=UTC:20220501T093000
DTSTAMP:20260420T072632
CREATED:20210924T154728Z
LAST-MODIFIED:20210924T154728Z
UID:1084-1651392000-1651397400@imonthejourney.com
SUMMARY:Sunday Service
DESCRIPTION:Example event text.
URL:https://imonthejourney.com/event/sunday-service-2022-05-01/
ATTACH;FMTTYPE=image/jpeg:https://imonthejourney.com/wp-content/uploads/2020/07/nathan-mullet-RFS60XV0z54-unsplash-scaled.jpg
END:VEVENT
BEGIN:VEVENT
DTSTART;TZID=UTC:20220424T080000
DTEND;TZID=UTC:20220424T093000
DTSTAMP:20260420T072632
CREATED:20210924T154728Z
LAST-MODIFIED:20210924T154728Z
UID:1083-1650787200-1650792600@imonthejourney.com
SUMMARY:Sunday Service
DESCRIPTION:Example event text.
URL:https://imonthejourney.com/event/sunday-service-2022-04-24/
ATTACH;FMTTYPE=image/jpeg:https://imonthejourney.com/wp-content/uploads/2020/07/nathan-mullet-RFS60XV0z54-unsplash-scaled.jpg
END:VEVENT
BEGIN:VEVENT
DTSTART;TZID=UTC:20220417T080000
DTEND;TZID=UTC:20220417T093000
DTSTAMP:20260420T072632
CREATED:20210924T154728Z
LAST-MODIFIED:20210924T154728Z
UID:1082-1650182400-1650187800@imonthejourney.com
SUMMARY:Sunday Service
DESCRIPTION:Example event text.
URL:https://imonthejourney.com/event/sunday-service-2022-04-17/
ATTACH;FMTTYPE=image/jpeg:https://imonthejourney.com/wp-content/uploads/2020/07/nathan-mullet-RFS60XV0z54-unsplash-scaled.jpg
END:VEVENT
BEGIN:VEVENT
DTSTART;TZID=UTC:20220410T080000
DTEND;TZID=UTC:20220410T093000
DTSTAMP:20260420T072632
CREATED:20210924T154728Z
LAST-MODIFIED:20210924T154728Z
UID:1081-1649577600-1649583000@imonthejourney.com
SUMMARY:Sunday Service
DESCRIPTION:Example event text.
URL:https://imonthejourney.com/event/sunday-service-2022-04-10/
ATTACH;FMTTYPE=image/jpeg:https://imonthejourney.com/wp-content/uploads/2020/07/nathan-mullet-RFS60XV0z54-unsplash-scaled.jpg
END:VEVENT
BEGIN:VEVENT
DTSTART;TZID=UTC:20220403T080000
DTEND;TZID=UTC:20220403T093000
DTSTAMP:20260420T072632
CREATED:20210924T154728Z
LAST-MODIFIED:20210924T154728Z
UID:1080-1648972800-1648978200@imonthejourney.com
SUMMARY:Sunday Service
DESCRIPTION:Example event text.
URL:https://imonthejourney.com/event/sunday-service-2022-04-03/
ATTACH;FMTTYPE=image/jpeg:https://imonthejourney.com/wp-content/uploads/2020/07/nathan-mullet-RFS60XV0z54-unsplash-scaled.jpg
END:VEVENT
BEGIN:VEVENT
DTSTART;TZID=UTC:20220327T080000
DTEND;TZID=UTC:20220327T093000
DTSTAMP:20260420T072632
CREATED:20210924T154728Z
LAST-MODIFIED:20210924T154728Z
UID:1079-1648368000-1648373400@imonthejourney.com
SUMMARY:Sunday Service
DESCRIPTION:Example event text.
URL:https://imonthejourney.com/event/sunday-service-2022-03-27/
ATTACH;FMTTYPE=image/jpeg:https://imonthejourney.com/wp-content/uploads/2020/07/nathan-mullet-RFS60XV0z54-unsplash-scaled.jpg
END:VEVENT
BEGIN:VEVENT
DTSTART;TZID=UTC:20220320T080000
DTEND;TZID=UTC:20220320T093000
DTSTAMP:20260420T072632
CREATED:20210924T154728Z
LAST-MODIFIED:20210924T154728Z
UID:1078-1647763200-1647768600@imonthejourney.com
SUMMARY:Sunday Service
DESCRIPTION:Example event text.
URL:https://imonthejourney.com/event/sunday-service-2022-03-20/
ATTACH;FMTTYPE=image/jpeg:https://imonthejourney.com/wp-content/uploads/2020/07/nathan-mullet-RFS60XV0z54-unsplash-scaled.jpg
END:VEVENT
BEGIN:VEVENT
DTSTART;TZID=UTC:20220313T080000
DTEND;TZID=UTC:20220313T093000
DTSTAMP:20260420T072632
CREATED:20210924T154728Z
LAST-MODIFIED:20210924T154728Z
UID:1077-1647158400-1647163800@imonthejourney.com
SUMMARY:Sunday Service
DESCRIPTION:Example event text.
URL:https://imonthejourney.com/event/sunday-service-2022-03-13/
ATTACH;FMTTYPE=image/jpeg:https://imonthejourney.com/wp-content/uploads/2020/07/nathan-mullet-RFS60XV0z54-unsplash-scaled.jpg
END:VEVENT
BEGIN:VEVENT
DTSTART;TZID=UTC:20220306T080000
DTEND;TZID=UTC:20220306T093000
DTSTAMP:20260420T072632
CREATED:20210924T154728Z
LAST-MODIFIED:20210924T154728Z
UID:1076-1646553600-1646559000@imonthejourney.com
SUMMARY:Sunday Service
DESCRIPTION:Example event text.
URL:https://imonthejourney.com/event/sunday-service-2022-03-06/
ATTACH;FMTTYPE=image/jpeg:https://imonthejourney.com/wp-content/uploads/2020/07/nathan-mullet-RFS60XV0z54-unsplash-scaled.jpg
END:VEVENT
BEGIN:VEVENT
DTSTART;TZID=UTC:20220227T080000
DTEND;TZID=UTC:20220227T093000
DTSTAMP:20260420T072632
CREATED:20210924T154728Z
LAST-MODIFIED:20210924T154728Z
UID:1075-1645948800-1645954200@imonthejourney.com
SUMMARY:Sunday Service
DESCRIPTION:Example event text.
URL:https://imonthejourney.com/event/sunday-service-2022-02-27/
ATTACH;FMTTYPE=image/jpeg:https://imonthejourney.com/wp-content/uploads/2020/07/nathan-mullet-RFS60XV0z54-unsplash-scaled.jpg
END:VEVENT
END:VCALENDAR